Workbook

Sheet Girone ROSSO
A1: OFFIDA GREEN VOLLEY - Girone ROSSO | U1: Classifica
A2: Giornata | B2: Ora | C2: Squadra A | D2: SET 1 | E2: SET 2 | F2: SET 3 | G2: TOT SET | H2: P. | I2: Finale | L2: P. | M2: SET 1 | N2: SET 2 | O2: SET 3 | P2: TOT SET | Q2: Squadra B | T2: N. | U2: Squadra | V2: Punti | W2: Giocate | X2: Gare Vinte | Y2: Gare Perse | Z2: SET Vinti | AA2: SET Persi | AB2: Q. SET | AC2: Punti fatti | AD2: Punti subiti | AE2: Q. PUNTI
A3: 1 | B3: 0.85416667 | C3: Martinsicuro Volley | D3: 25 | E3: 25 | G3: =SUM(D3:F3) -> 50 | H3: =IF(AND(I3=0,K3=0),0,IF(AND(I3=2,K3=0),3,I3)) -> 3 | I3: 2 | J3: - | K3: 0 | L3: =IF(AND(I3=0,K3=0),0,IF(AND(K3=2,I3=0),3,K3)) -> 0 | M3: 21 | N3: 8 | P3: =SUM(M3:O3) -> 29 | Q3: Gli Amici di Pino e Asia | T3: 1 | U3: E' pè sta insieme | V3: =SUMIF($C$3:$C$34,U3,$H$3:$H$34)+SUMIF($Q$3:$Q$34,U3,$L$3:$L$34) -> 12 | W3: =X3+Y3 -> 4 | X3: =COUNTIFS($C$3:$C$12,U3,$I$3:$I$12,2)+COUNTIFS($Q$3:$Q$12,U3,$K$3:$K$12,2) -> 4 | Y3: =COUNTIFS($C$3:$C$12,U3,$I$3:$I$12,"<2",$K$3:$K$12,2)+COUNTIFS($Q$3:$Q$12,U3,$K$3:$K$12,"<2",$I$3:$I$12,2) -> 0 | Z3: =SUMIF($C$3:$C$12,U3,$I$3:$I$12)+SUMIF($Q$3:$Q$12,U3,$K$3:$K$12) -> 8 | AA3: =SUMIF($C$3:$C$12,U3,$K$3:$K$12)+SUMIF($Q$3:$Q$12,U3,$I$3:$I$12) -> 0 | AB3: =Z3/IF(AA3=0,1,AA3) -> 8 | AC3: =SUMIF($C$3:$C$12,U3,$G$3:$G$12)+SUMIF($Q$3:$Q$12,U3,$P$3:$P$12) -> 202 | AD3: =SUMIF($C$3:$C$12,U3,$P$3:$P$12)+SUMIF($Q$3:$Q$12,U3,$G$3:$G$12) -> 143 | AE3: =AC3/AD3 -> 1.4125874
A4: 1 | B4: 0.85416667 | C4: E' pè sta insieme | D4: 25 | E4: 25 | G4: =SUM(D4:F4) -> 50 | H4: =IF(AND(I4=0,K4=0),0,IF(AND(I4=2,K4=0),3,I4)) -> 3 | I4: 2 | J4: - | K4: 0 | L4: =IF(AND(I4=0,K4=0),0,IF(AND(K4=2,I4=0),3,K4)) -> 0 | M4: 21 | N4: 21 | P4: =SUM(M4:O4) -> 42 | Q4: Le Sanfàn de Cris | T4: 2 | U4: Le Sanfàn de Cris | V4: =SUMIF($C$3:$C$34,U4,$H$3:$H$34)+SUMIF($Q$3:$Q$34,U4,$L$3:$L$34) -> 9 | W4: =X4+Y4 -> 4 | X4: =COUNTIFS($C$3:$C$12,U4,$I$3:$I$12,2)+COUNTIFS($Q$3:$Q$12,U4,$K$3:$K$12,2) -> 3 | Y4: =COUNTIFS($C$3:$C$12,U4,$I$3:$I$12,"<2",$K$3:$K$12,2)+COUNTIFS($Q$3:$Q$12,U4,$K$3:$K$12,"<2",$I$3:$I$12,2) -> 1 | Z4: =SUMIF($C$3:$C$12,U4,$I$3:$I$12)+SUMIF($Q$3:$Q$12,U4,$K$3:$K$12) -> 6 | AA4: =SUMIF($C$3:$C$12,U4,$K$3:$K$12)+SUMIF($Q$3:$Q$12,U4,$I$3:$I$12) -> 2 | AB4: =Z4/IF(AA4=0,1,AA4) -> 3 | AC4: =SUMIF($C$3:$C$12,U4,$G$3:$G$12)+SUMIF($Q$3:$Q$12,U4,$P$3:$P$12) -> 193 | AD4: =SUMIF($C$3:$C$12,U4,$P$3:$P$12)+SUMIF($Q$3:$Q$12,U4,$G$3:$G$12) -> 168 | AE4: =AC4/AD4 -> 1.1488095
A5: 1 | B5: 0.91666667 | C5: E' pè sta insieme | D5: 25 | E5: 27 | G5: =SUM(D5:F5) -> 52 | H5: =IF(AND(I5=0,K5=0),0,IF(AND(I5=2,K5=0),3,I5)) -> 3 | I5: 2 | J5: - | K5: 0 | L5: =IF(AND(I5=0,K5=0),0,IF(AND(K5=2,I5=0),3,K5)) -> 0 | M5: 19 | N5: 25 | P5: =SUM(M5:O5) -> 44 | Q5: Martinsicuro Volley | T5: 3 | U5: Fast & Volley | V5: =SUMIF($C$3:$C$34,U5,$H$3:$H$34)+SUMIF($Q$3:$Q$34,U5,$L$3:$L$34) -> 5 | W5: =X5+Y5 -> 4 | X5: =COUNTIFS($C$3:$C$12,U5,$I$3:$I$12,2)+COUNTIFS($Q$3:$Q$12,U5,$K$3:$K$12,2) -> 2 | Y5: =COUNTIFS($C$3:$C$12,U5,$I$3:$I$12,"<2",$K$3:$K$12,2)+COUNTIFS($Q$3:$Q$12,U5,$K$3:$K$12,"<2",$I$3:$I$12,2) -> 2 | Z5: =SUMIF($C$3:$C$12,U5,$I$3:$I$12)+SUMIF($Q$3:$Q$12,U5,$K$3:$K$12) -> 4 | AA5: =SUMIF($C$3:$C$12,U5,$K$3:$K$12)+SUMIF($Q$3:$Q$12,U5,$I$3:$I$12) -> 5 | AB5: =Z5/IF(AA5=0,1,AA5) -> 0.8 | AC5: =SUMIF($C$3:$C$12,U5,$G$3:$G$12)+SUMIF($Q$3:$Q$12,U5,$P$3:$P$12) -> 186 | AD5: =SUMIF($C$3:$C$12,U5,$P$3:$P$12)+SUMIF($Q$3:$Q$12,U5,$G$3:$G$12) -> 190 | AE5: =AC5/AD5 -> 0.97894737
A6: 1 | B6: 0.91666667 | C6: Le Sanfàn de Cris | D6: 25 | E6: 25 | G6: =SUM(D6:F6) -> 50 | H6: =IF(AND(I6=0,K6=0),0,IF(AND(I6=2,K6=0),3,I6)) -> 3 | I6: 2 | J6: - | K6: 0 | L6: =IF(AND(I6=0,K6=0),0,IF(AND(K6=2,I6=0),3,K6)) -> 0 | M6: 20 | N6: 20 | P6: =SUM(M6:O6) -> 40 | Q6: Fast & Volley | T6: 4 | U6: Martinsicuro Volley | V6: =SUMIF($C$3:$C$34,U6,$H$3:$H$34)+SUMIF($Q$3:$Q$34,U6,$L$3:$L$34) -> 4 | W6: =X6+Y6 -> 4 | X6: =COUNTIFS($C$3:$C$12,U6,$I$3:$I$12,2)+COUNTIFS($Q$3:$Q$12,U6,$K$3:$K$12,2) -> 1 | Y6: =COUNTIFS($C$3:$C$12,U6,$I$3:$I$12,"<2",$K$3:$K$12,2)+COUNTIFS($Q$3:$Q$12,U6,$K$3:$K$12,"<2",$I$3:$I$12,2) -> 3 | Z6: =SUMIF($C$3:$C$12,U6,$I$3:$I$12)+SUMIF($Q$3:$Q$12,U6,$K$3:$K$12) -> 3 | AA6: =SUMIF($C$3:$C$12,U6,$K$3:$K$12)+SUMIF($Q$3:$Q$12,U6,$I$3:$I$12) -> 6 | AB6: =Z6/IF(AA6=0,1,AA6) -> 0.5 | AC6: =SUMIF($C$3:$C$12,U6,$G$3:$G$12)+SUMIF($Q$3:$Q$12,U6,$P$3:$P$12) -> 194 | AD6: =SUMIF($C$3:$C$12,U6,$P$3:$P$12)+SUMIF($Q$3:$Q$12,U6,$G$3:$G$12) -> 196 | AE6: =AC6/AD6 -> 0.98979592
A7: 1 | B7: 0.97916667 | C7: Gli Amici di Pino e Asia | D7: 15 | E7: 16 | G7: =SUM(D7:F7) -> 31 | H7: =IF(AND(I7=0,K7=0),0,IF(AND(I7=2,K7=0),3,I7)) -> 0 | I7: 0 | J7: - | K7: 2 | L7: =IF(AND(I7=0,K7=0),0,IF(AND(K7=2,I7=0),3,K7)) -> 3 | M7: 25 | N7: 25 | P7: =SUM(M7:O7) -> 50 | Q7: Fast & Volley | T7: 5 | U7: Gli Amici di Pino e Asia | V7: =SUMIF($C$3:$C$34,U7,$H$3:$H$34)+SUMIF($Q$3:$Q$34,U7,$L$3:$L$34) -> 0 | W7: =X7+Y7 -> 4 | X7: =COUNTIFS($C$3:$C$12,U7,$I$3:$I$12,2)+COUNTIFS($Q$3:$Q$12,U7,$K$3:$K$12,2) -> 0 | Y7: =COUNTIFS($C$3:$C$12,U7,$I$3:$I$12,"<2",$K$3:$K$12,2)+COUNTIFS($Q$3:$Q$12,U7,$K$3:$K$12,"<2",$I$3:$I$12,2) -> 4 | Z7: =SUMIF($C$3:$C$12,U7,$I$3:$I$12)+SUMIF($Q$3:$Q$12,U7,$K$3:$K$12) -> 0 | AA7: =SUMIF($C$3:$C$12,U7,$K$3:$K$12)+SUMIF($Q$3:$Q$12,U7,$I$3:$I$12) -> 8 | AB7: =Z7/IF(AA7=0,1,AA7) -> 0 | AC7: =SUMIF($C$3:$C$12,U7,$G$3:$G$12)+SUMIF($Q$3:$Q$12,U7,$P$3:$P$12) -> 122 | AD7: =SUMIF($C$3:$C$12,U7,$P$3:$P$12)+SUMIF($Q$3:$Q$12,U7,$G$3:$G$12) -> 200 | AE7: =AC7/AD7 -> 0.61
A8: 2 | B8: 0.85416667 | C8: E' pè sta insieme | D8: 25 | E8: 25 | G8: =SUM(D8:F8) -> 50 | H8: =IF(AND(I8=0,K8=0),0,IF(AND(I8=2,K8=0),3,I8)) -> 3 | I8: 2 | J8: - | K8: 0 | L8: =IF(AND(I8=0,K8=0),0,IF(AND(K8=2,I8=0),3,K8)) -> 0 | M8: 13 | N8: 12 | P8: =SUM(M8:O8) -> 25 | Q8: Gli Amici di Pino e Asia
A9: 2 | B9: 0.85416667 | C9: Le Sanfàn de Cris | D9: 26 | E9: 25 | G9: =SUM(D9:F9) -> 51 | H9: =IF(AND(I9=0,K9=0),0,IF(AND(I9=2,K9=0),3,I9)) -> 3 | I9: 2 | J9: - | K9: 0 | L9: =IF(AND(I9=0,K9=0),0,IF(AND(K9=2,I9=0),3,K9)) -> 0 | M9: 24 | N9: 17 | P9: =SUM(M9:O9) -> 41 | Q9: Martinsicuro Volley
A10: 2 | B10: 0.91666667 | C10: Gli Amici di Pino e Asia | D10: 19 | E10: 18 | G10: =SUM(D10:F10) -> 37 | H10: =IF(AND(I10=0,K10=0),0,IF(AND(I10=2,K10=0),3,I10)) -> 0 | I10: 0 | J10: - | K10: 2 | L10: =IF(AND(I10=0,K10=0),0,IF(AND(K10=2,I10=0),3,K10)) -> 3 | M10: 25 | N10: 25 | P10: =SUM(M10:O10) -> 50 | Q10: Le Sanfàn de Cris
A11: 2 | B11: 0.91666667 | C11: Fast & Volley | D11: 19 | E11: 30 | F11: 15 | G11: =SUM(D11:F11) -> 64 | H11: =IF(AND(I11=0,K11=0),0,IF(AND(I11=2,K11=0),3,I11)) -> 2 | I11: 2 | J11: - | K11: 1 | L11: =IF(AND(I11=0,K11=0),0,IF(AND(K11=2,I11=0),3,K11)) -> 1 | M11: 25 | N11: 28 | O11: 6 | P11: =SUM(M11:O11) -> 59 | Q11: Martinsicuro Volley
A12: 2 | B12: 0.97916667 | C12: E' pè sta insieme | D12: 25 | E12: 25 | G12: =SUM(D12:F12) -> 50 | H12: =IF(AND(I12=0,K12=0),0,IF(AND(I12=2,K12=0),3,I12)) -> 3 | I12: 2 | J12: - | K12: 0 | L12: =IF(AND(I12=0,K12=0),0,IF(AND(K12=2,I12=0),3,K12)) -> 0 | M12: 16 | N12: 16 | P12: =SUM(M12:O12) -> 32 | Q12: Fast & Volley

Sheet Girone AZZURRO
A1: OFFIDA GREEN VOLLEY - Girone AZZURRO | U1: Classifica
A2: Giornata | B2: Ora | C2: Squadra A | D2: SET 1 | E2: SET 2 | F2: SET 3 | G2: TOT SET | H2: P. | I2: Finale | L2: P. | M2: SET 1 | N2: SET 2 | O2: SET 3 | P2: TOT SET | Q2: Squadra B | T2: N. | U2: Squadra | V2: Punti | W2: Giocate | X2: Gare Vinte | Y2: Gare Perse | Z2: SET Vinti | AA2: SET Persi | AB2: Q. SET | AC2: Punti fatti | AD2: Punti subiti | AE2: Q. PUNTI
A3: 1 | B3: 0.85416667 | C3: Attenti a quelli là | D3: 25 | E3: 23 | F3: 11 | G3: =SUM(D3:F3) -> 59 | H3: =IF(AND(I3=0,K3=0),0,IF(AND(I3=2,K3=0),3,I3)) -> 1 | I3: 1 | J3: - | K3: 2 | L3: =IF(AND(I3=0,K3=0),0,IF(AND(K3=2,I3=0),3,K3)) -> 2 | M3: 17 | N3: 25 | O3: 15 | P3: =SUM(M3:O3) -> 57 | Q3: La Perla Nera | T3: 1 | U3: Quelli dell'ultimo momento | V3: =SUMIF($C$3:$C$12,U3,$H$3:$H$12)+SUMIF($Q$3:$Q$12,U3,$L$3:$L$12) -> 11 | W3: =X3+Y3 -> 4 | X3: =COUNTIFS($C$3:$C$12,U3,$I$3:$I$12,2)+COUNTIFS($Q$3:$Q$12,U3,$K$3:$K$12,2) -> 4 | Y3: =COUNTIFS($C$3:$C$12,U3,$I$3:$I$12,"<2",$K$3:$K$12,2)+COUNTIFS($Q$3:$Q$12,U3,$K$3:$K$12,"<2",$I$3:$I$12,2) -> 0 | Z3: =SUMIF($C$3:$C$12,U3,$I$3:$I$12)+SUMIF($Q$3:$Q$12,U3,$K$3:$K$12) -> 8 | AA3: =SUMIF($C$3:$C$12,U3,$K$3:$K$12)+SUMIF($Q$3:$Q$12,U3,$I$3:$I$12) -> 1 | AB3: =Z3/IF(AA3=0,1,AA3) -> 8 | AC3: =SUMIF($C$3:$C$12,U3,$G$3:$G$12)+SUMIF($Q$3:$Q$12,U3,$P$3:$P$12) -> 206 | AD3: =SUMIF($C$3:$C$12,U3,$P$3:$P$12)+SUMIF($Q$3:$Q$12,U3,$G$3:$G$12) -> 158 | AE3: =AC3/AD3 -> 1.3037975
A4: 1 | B4: 0.85416667 | C4: Schiaccia Patate | D4: 9 | E4: 9 | G4: =SUM(D4:F4) -> 18 | H4: =IF(AND(I4=0,K4=0),0,IF(AND(I4=2,K4=0),3,I4)) -> 0 | I4: 0 | J4: - | K4: 2 | L4: =IF(AND(I4=0,K4=0),0,IF(AND(K4=2,I4=0),3,K4)) -> 3 | M4: 25 | N4: 25 | P4: =SUM(M4:O4) -> 50 | Q4: Volley Vintage | T4: 2 | U4: Volley Vintage | V4: =SUMIF($C$3:$C$12,U4,$H$3:$H$12)+SUMIF($Q$3:$Q$12,U4,$L$3:$L$12) -> 10 | W4: =X4+Y4 -> 4 | X4: =COUNTIFS($C$3:$C$12,U4,$I$3:$I$12,2)+COUNTIFS($Q$3:$Q$12,U4,$K$3:$K$12,2) -> 3 | Y4: =COUNTIFS($C$3:$C$12,U4,$I$3:$I$12,"<2",$K$3:$K$12,2)+COUNTIFS($Q$3:$Q$12,U4,$K$3:$K$12,"<2",$I$3:$I$12,2) -> 1 | Z4: =SUMIF($C$3:$C$12,U4,$I$3:$I$12)+SUMIF($Q$3:$Q$12,U4,$K$3:$K$12) -> 7 | AA4: =SUMIF($C$3:$C$12,U4,$K$3:$K$12)+SUMIF($Q$3:$Q$12,U4,$I$3:$I$12) -> 2 | AB4: =Z4/IF(AA4=0,1,AA4) -> 3.5 | AC4: =SUMIF($C$3:$C$12,U4,$G$3:$G$12)+SUMIF($Q$3:$Q$12,U4,$P$3:$P$12) -> 209 | AD4: =SUMIF($C$3:$C$12,U4,$P$3:$P$12)+SUMIF($Q$3:$Q$12,U4,$G$3:$G$12) -> 147 | AE4: =AC4/AD4 -> 1.4217687
A5: 1 | B5: 0.91666667 | C5: Quelli dell'ultimo momento | D5: 26 | E5: 15 | F5: 15 | G5: =SUM(D5:F5) -> 56 | H5: =IF(AND(I5=0,K5=0),0,IF(AND(I5=2,K5=0),3,I5)) -> 2 | I5: 2 | J5: - | K5: 1 | L5: =IF(AND(I5=0,K5=0),0,IF(AND(K5=2,I5=0),3,K5)) -> 1 | M5: 24 | N5: 25 | O5: 10 | P5: =SUM(M5:O5) -> 59 | Q5: Volley Vintage | T5: 3 | U5: La Perla Nera | V5: =SUMIF($C$3:$C$12,U5,$H$3:$H$12)+SUMIF($Q$3:$Q$12,U5,$L$3:$L$12) -> 4 | W5: =X5+Y5 -> 4 | X5: =COUNTIFS($C$3:$C$12,U5,$I$3:$I$12,2)+COUNTIFS($Q$3:$Q$12,U5,$K$3:$K$12,2) -> 2 | Y5: =COUNTIFS($C$3:$C$12,U5,$I$3:$I$12,"<2",$K$3:$K$12,2)+COUNTIFS($Q$3:$Q$12,U5,$K$3:$K$12,"<2",$I$3:$I$12,2) -> 2 | Z5: =SUMIF($C$3:$C$12,U5,$I$3:$I$12)+SUMIF($Q$3:$Q$12,U5,$K$3:$K$12) -> 4 | AA5: =SUMIF($C$3:$C$12,U5,$K$3:$K$12)+SUMIF($Q$3:$Q$12,U5,$I$3:$I$12) -> 6 | AB5: =Z5/IF(AA5=0,1,AA5) -> 0.66666667 | AC5: =SUMIF($C$3:$C$12,U5,$G$3:$G$12)+SUMIF($Q$3:$Q$12,U5,$P$3:$P$12) -> 197 | AD5: =SUMIF($C$3:$C$12,U5,$P$3:$P$12)+SUMIF($Q$3:$Q$12,U5,$G$3:$G$12) -> 206 | AE5: =AC5/AD5 -> 0.95631068
A6: 1 | B6: 0.91666667 | C6: Attenti a quelli là | D6: 25 | E6: 25 | G6: =SUM(D6:F6) -> 50 | H6: =IF(AND(I6=0,K6=0),0,IF(AND(I6=2,K6=0),3,I6)) -> 3 | I6: 2 | J6: - | K6: 0 | L6: =IF(AND(I6=0,K6=0),0,IF(AND(K6=2,I6=0),3,K6)) -> 0 | M6: 12 | N6: 23 | P6: =SUM(M6:O6) -> 35 | Q6: Schiaccia Patate | T6: 4 | U6: Attenti a quelli là | V6: =SUMIF($C$3:$C$12,U6,$H$3:$H$12)+SUMIF($Q$3:$Q$12,U6,$L$3:$L$12) -> 4 | W6: =X6+Y6 -> 4 | X6: =COUNTIFS($C$3:$C$12,U6,$I$3:$I$12,2)+COUNTIFS($Q$3:$Q$12,U6,$K$3:$K$12,2) -> 1 | Y6: =COUNTIFS($C$3:$C$12,U6,$I$3:$I$12,"<2",$K$3:$K$12,2)+COUNTIFS($Q$3:$Q$12,U6,$K$3:$K$12,"<2",$I$3:$I$12,2) -> 3 | Z6: =SUMIF($C$3:$C$12,U6,$I$3:$I$12)+SUMIF($Q$3:$Q$12,U6,$K$3:$K$12) -> 3 | AA6: =SUMIF($C$3:$C$12,U6,$K$3:$K$12)+SUMIF($Q$3:$Q$12,U6,$I$3:$I$12) -> 6 | AB6: =Z6/IF(AA6=0,1,AA6) -> 0.5 | AC6: =SUMIF($C$3:$C$12,U6,$G$3:$G$12)+SUMIF($Q$3:$Q$12,U6,$P$3:$P$12) -> 180 | AD6: =SUMIF($C$3:$C$12,U6,$P$3:$P$12)+SUMIF($Q$3:$Q$12,U6,$G$3:$G$12) -> 192 | AE6: =AC6/AD6 -> 0.9375
A7: 1 | B7: 0.97916667 | C7: La Perla Nera | D7: 16 | E7: 23 | G7: =SUM(D7:F7) -> 39 | H7: =IF(AND(I7=0,K7=0),0,IF(AND(I7=2,K7=0),3,I7)) -> 0 | I7: 0 | J7: - | K7: 2 | L7: =IF(AND(I7=0,K7=0),0,IF(AND(K7=2,I7=0),3,K7)) -> 3 | M7: 25 | N7: 25 | P7: =SUM(M7:O7) -> 50 | Q7: Quelli dell'ultimo momento | T7: 5 | U7: Schiaccia Patate | V7: =SUMIF($C$3:$C$12,U7,$H$3:$H$12)+SUMIF($Q$3:$Q$12,U7,$L$3:$L$12) -> 1 | W7: =X7+Y7 -> 4 | X7: =COUNTIFS($C$3:$C$12,U7,$I$3:$I$12,2)+COUNTIFS($Q$3:$Q$12,U7,$K$3:$K$12,2) -> 0 | Y7: =COUNTIFS($C$3:$C$12,U7,$I$3:$I$12,"<2",$K$3:$K$12,2)+COUNTIFS($Q$3:$Q$12,U7,$K$3:$K$12,"<2",$I$3:$I$12,2) -> 4 | Z7: =SUMIF($C$3:$C$12,U7,$I$3:$I$12)+SUMIF($Q$3:$Q$12,U7,$K$3:$K$12) -> 1 | AA7: =SUMIF($C$3:$C$12,U7,$K$3:$K$12)+SUMIF($Q$3:$Q$12,U7,$I$3:$I$12) -> 8 | AB7: =Z7/IF(AA7=0,1,AA7) -> 0.125 | AC7: =SUMIF($C$3:$C$12,U7,$G$3:$G$12)+SUMIF($Q$3:$Q$12,U7,$P$3:$P$12) -> 126 | AD7: =SUMIF($C$3:$C$12,U7,$P$3:$P$12)+SUMIF($Q$3:$Q$12,U7,$G$3:$G$12) -> 215 | AE7: =AC7/AD7 -> 0.58604651
A8: 2 | B8: 0.85416667 | C8: Quelli dell'ultimo momento | D8: 25 | E8: 25 | G8: =SUM(D8:F8) -> 50 | H8: =IF(AND(I8=0,K8=0),0,IF(AND(I8=2,K8=0),3,I8)) -> 3 | I8: 2 | J8: - | K8: 0 | L8: =IF(AND(I8=0,K8=0),0,IF(AND(K8=2,I8=0),3,K8)) -> 0 | M8: 15 | N8: 19 | P8: =SUM(M8:O8) -> 34 | Q8: Attenti a quelli là
A9: 2 | B9: 0.85416667 | C9: Schiaccia Patate | D9: 16 | E9: 27 | F9: 4 | G9: =SUM(D9:F9) -> 47 | H9: =IF(AND(I9=0,K9=0),0,IF(AND(I9=2,K9=0),3,I9)) -> 1 | I9: 1 | J9: - | K9: 2 | L9: =IF(AND(I9=0,K9=0),0,IF(AND(K9=2,I9=0),3,K9)) -> 2 | M9: 25 | N9: 25 | O9: 15 | P9: =SUM(M9:O9) -> 65 | Q9: La Perla Nera
A10: 2 | B10: 0.91666667 | C10: Schiaccia Patate | D10: 13 | E10: 13 | G10: =SUM(D10:F10) -> 26 | H10: =IF(AND(I10=0,K10=0),0,IF(AND(I10=2,K10=0),3,I10)) -> 0 | I10: 0 | J10: - | K10: 2 | L10: =IF(AND(I10=0,K10=0),0,IF(AND(K10=2,I10=0),3,K10)) -> 3 | M10: 25 | N10: 25 | P10: =SUM(M10:O10) -> 50 | Q10: Quelli dell'ultimo momento
A11: 2 | B11: 0.91666667 | C11: Volley Vintage | D11: 25 | E11: 25 | G11: =SUM(D11:F11) -> 50 | H11: =IF(AND(I11=0,K11=0),0,IF(AND(I11=2,K11=0),3,I11)) -> 3 | I11: 2 | J11: - | K11: 0 | L11: =IF(AND(I11=0,K11=0),0,IF(AND(K11=2,I11=0),3,K11)) -> 0 | M11: 18 | N11: 19 | P11: =SUM(M11:O11) -> 37 | Q11: Attenti a quelli là
A12: 2 | B12: 0.97916667 | C12: La Perla Nera | D12: 16 | E12: 20 | G12: =SUM(D12:F12) -> 36 | H12: =IF(AND(I12=0,K12=0),0,IF(AND(I12=2,K12=0),3,I12)) -> 0 | I12: 0 | J12: - | K12: 2 | L12: =IF(AND(I12=0,K12=0),0,IF(AND(K12=2,I12=0),3,K12)) -> 3 | M12: 25 | N12: 25 | P12: =SUM(M12:O12) -> 50 | Q12: Volley Vintage

Sheet FASI FINALI
B1: OFFIDA GREEN VOLLEY 2026
B2: SEMIFINALI
B3: Class. | C3: Orario | D3: Campo | E3: Squadre | G3: Risultato
B4: 1° - 4° | C4: 0.85416667 | D4: CAMPO 1 | E4: ='Girone ROSSO'!U3 -> E' pè sta insieme | F4: ='Girone AZZURRO'!U4 -> Volley Vintage
B5: 1° - 4° | C5: 0.85416667 | D5: CAMPO 3 | E5: ='Girone AZZURRO'!U3 -> Quelli dell'ultimo momento | F5: ='Girone ROSSO'!U4 -> Le Sanfàn de Cris
B6: 5° - 8° | C6: 0.85416667 | D6: CAMPO 2 | E6: ='Girone ROSSO'!U5 -> Fast & Volley | F6: ='Girone AZZURRO'!U6 -> Attenti a quelli là
B7: 5° - 8° | C7: 0.85416667 | D7: CAMPO 4 | E7: ='Girone AZZURRO'!U5 -> La Perla Nera | F7: ='Girone ROSSO'!U6 -> Martinsicuro Volley
B9: FINALI
B10: Class. | C10: Orario | D10: Campo | E10: Squadre | G10: Risultato
B11: 3° - 4° | C11: 0.91666667 | D11: CAMPO 1 | E11: =IF(G4<H4,E4,IF(H4<G4,F4,"")) | F11: =IF(G5<H5,E5,IF(H5<G5,F5,""))
B12: 5° - 6° | C12: 0.91666667 | D12: CAMPO 2 | E12: =IF(G6=2,E6,IF(H6=2,F6,"")) | F12: =IF(G7=2,E7,IF(H7=2,F7,""))
B13: 7° - 8° | C13: 0.91666667 | D13: CAMPO 3 | E13: =IF(G6<H6,E6,IF(H6<G6,F6,"")) | F13: =IF(G7<H7,E7,IF(H7<G7,F7,""))
B14: 9° - 10° | C14: 0.91666667 | D14: CAMPO 4 | E14: ='Girone ROSSO'!U7 -> Gli Amici di Pino e Asia | F14: ='Girone AZZURRO'!U7 -> Schiaccia Patate
B15: 1° - 2° | C15: 0.97916667 | D15: CAMPO 1 | E15: =IF(G4=2,E4,IF(H4=2,F4,"")) | F15: =IF(G5=2,E5,IF(H5=2,F5,""))

Sheet CLASSIFICA FINALE
B1: OFFIDA GREEN VOLLEY 2026
B2: CLASSIFICA FINALE
B3: 1° | C3: =IF('FASI FINALI'!G15=2,'FASI FINALI'!E15,IF('FASI FINALI'!H15=2,'FASI FINALI'!F15,""))
B4: 2° | C4: =IF('FASI FINALI'!G15<'FASI FINALI'!H15,'FASI FINALI'!E15,IF('FASI FINALI'!H15<'FASI FINALI'!G15,'FASI FINALI'!F15,""))
B5: 3° | C5: =IF('FASI FINALI'!G11=2,'FASI FINALI'!E11,IF('FASI FINALI'!H11=2,'FASI FINALI'!F11,""))
B6: 4° | C6: =IF('FASI FINALI'!G11<'FASI FINALI'!H11,'FASI FINALI'!E11,IF('FASI FINALI'!H11<'FASI FINALI'!G11,'FASI FINALI'!F11,""))
B7: 5° | C7: =IF('FASI FINALI'!G12=2,'FASI FINALI'!E12,IF('FASI FINALI'!H12=2,'FASI FINALI'!F12,""))
B8: 6° | C8: =IF('FASI FINALI'!G12<'FASI FINALI'!H12,'FASI FINALI'!E12,IF('FASI FINALI'!H12<'FASI FINALI'!G12,'FASI FINALI'!F12,""))
B9: 7° | C9: =IF('FASI FINALI'!G13=2,'FASI FINALI'!E13,IF('FASI FINALI'!H13=2,'FASI FINALI'!F13,""))
B10: 8° | C10: =IF('FASI FINALI'!G13<'FASI FINALI'!H13,'FASI FINALI'!E13,IF('FASI FINALI'!H13<'FASI FINALI'!G13,'FASI FINALI'!F13,""))
B11: 9° | C11: =IF('FASI FINALI'!G14=2,'FASI FINALI'!E14,IF('FASI FINALI'!H14=2,'FASI FINALI'!F14,""))
B12: 10° | C12: =IF('FASI FINALI'!G14<'FASI FINALI'!H14,'FASI FINALI'!E14,IF('FASI FINALI'!H14<'FASI FINALI'!G14,'FASI FINALI'!F14,""))
